BEGIN:VCALENDAR
VERSION:2.0
PRODID:-//hacksw/handcal//NONSGML v1.0//EN
BEGIN:VEVENT
SUMMARY:1/4 de finale div4, Bourg de peage vs Equipe 1 printemps
UID:b2cf053f-83bc-4da1-87bb-9b488e8b07eb
DTSTART:20260425T220000Z
DTEND:20260426T220000Z
LOCATION:Localisation   
CATEGORIES:Sportif
STATUS:
URL;VALUE=URI:https://tcsaulcetennis.sportsregions.fr/evenements/2026/04/26/14-de-finale-div4-bourg-de-peage-vs-equipe-1-printemps-2441875
END:VEVENT
END:VCALENDAR
