BEGIN:VCALENDAR
VERSION:2.0
PRODID:-//hacksw/handcal//NONSGML v1.0//EN
BEGIN:VEVENT
SUMMARY:Equipe 1 coupe des messieurs vs Aouste sur sye
UID:2063173e-5437-483f-b428-53f0fffaae4c
DTSTART:20260423T220000Z
DTEND:20260424T220000Z
LOCATION:Localisation   
CATEGORIES:Sportif
STATUS:
URL;VALUE=URI:https://tcsaulcetennis.sportsregions.fr/evenements/2026/04/24/equipe-1-coupe-des-messieurs-vs-aouste-sur-sye-2428435
END:VEVENT
END:VCALENDAR
