BEGIN:VCALENDAR
VERSION:2.0
PRODID:-//hacksw/handcal//NONSGML v1.0//EN
BEGIN:VEVENT
SUMMARY:Monteleger vs Equipe 1 coupe des messieurs
UID:0f85f4c3-e0f2-405d-8ebb-4120792b1476
DTSTART:20260326T230000Z
DTEND:20260327T230000Z
LOCATION:Localisation   
CATEGORIES:Sportif
STATUS:
URL;VALUE=URI:https://tcsaulcetennis.sportsregions.fr/evenements/2026/03/27/monteleger-vs-equipe-1-coupe-des-messieurs-2428432
END:VEVENT
END:VCALENDAR
