BEGIN:VCALENDAR
VERSION:2.0
PRODID:-//hacksw/handcal//NONSGML v1.0//EN
BEGIN:VEVENT
SUMMARY:Equipe 2 coupe des messieurs vs Viviers
UID:96d63794-bd22-4de0-b256-4c1ee4784e89
DTSTART:20260326T230000Z
DTEND:20260327T230000Z
LOCATION:Localisation   
CATEGORIES:Sportif
STATUS:
URL;VALUE=URI:https://tcsaulcetennis.sportsregions.fr/evenements/2026/03/27/equipe-2-coupe-des-messieurs-vs-viviers-2428440
END:VEVENT
END:VCALENDAR
