BEGIN:VCALENDAR
VERSION:2.0
PRODID:-//hacksw/handcal//NONSGML v1.0//EN
BEGIN:VEVENT
SUMMARY:Dieulefit vs Equipe 2 coupe messieurs
UID:bd1f63d1-746d-4311-a256-4b4d671c8362
DTSTART:20260226T230000Z
DTEND:20260227T230000Z
LOCATION:Localisation   
CATEGORIES:Sportif
STATUS:
URL;VALUE=URI:https://tcsaulcetennis.sportsregions.fr/evenements/2026/02/27/dieulefit-vs-equipe-2-coupe-messieurs-2428430
END:VEVENT
END:VCALENDAR
